BEGIN:VCALENDAR
VERSION:2.0
PRODID:icalendar-ruby
CALSCALE:GREGORIAN
METHOD:PUBLISH
BEGIN:VEVENT
DTSTAMP:20260421T104344Z
UID:11-1387234@yokosukacatholic.org
DTSTART:20260513T080000Z
DTEND:20260513T100000Z
CLASS:PUBLIC
CREATED:20260410T115426
DESCRIPTION:
LAST-MODIFIED:20260410T115426
LOCATION:Fellowship Hall/Chapel of Hope
SUMMARY:ἀγάπη
URL;VALUE=URI:https://www.yokosukacatholic.org/events/11/2026-05-13
ATTACH;FILENAME=495273304_10228031192585694_7226501082257268342_n.jpg;FMTTY
 PE=image/jpeg:https://dq5pwpg1q8ru0.cloudfront.net/2025/08/25/06/51/48/6f5
 9b56c-84d4-489f-b670-dc872a1bb3ad/495273304_10228031192585694_722650108225
 7268342_n.jpg
END:VEVENT
END:VCALENDAR
