BEGIN:VCALENDAR
VERSION:2.0
PRODID:icalendar-ruby
CALSCALE:GREGORIAN
METHOD:PUBLISH
BEGIN:VEVENT
DTSTAMP:20260421T135332Z
UID:10-1144919@yokosukacatholic.org
DTSTART:20260517T001500Z
DTEND:20260517T013000Z
CLASS:PUBLIC
CREATED:20250825T154609
DESCRIPTION:
LAST-MODIFIED:20250825T154609
LOCATION:CRC Building - Various Rooms
SUMMARY:CCD 
URL;VALUE=URI:https://www.yokosukacatholic.org/events/ccd/2026-05-17
END:VEVENT
END:VCALENDAR
