BEGIN:VCALENDAR
VERSION:2.0
PRODID:icalendar-ruby
CALSCALE:GREGORIAN
METHOD:PUBLISH
BEGIN:VEVENT
DTSTAMP:20260421T190704Z
UID:15-1413562@yokosukacatholic.org
DTSTART:20260604T030000Z
DTEND:20260604T033000Z
CLASS:PUBLIC
CREATED:20260422T023940
DESCRIPTION:
LAST-MODIFIED:20260422T023940
LOCATION:Main Chapel
SUMMARY:Daily Mass (Latin)
URL;VALUE=URI:https://www.yokosukacatholic.org/events/daily-mass-latin/2026
 -06-04
ATTACH;FILENAME=493455241_10227908078547920_8015576473389940186_n.jpg;FMTTY
 PE=image/jpeg:https://dq5pwpg1q8ru0.cloudfront.net/2025/09/09/12/24/35/52c
 f42b2-acf9-4fb3-bd6b-81e9e300be71/493455241_10227908078547920_801557647338
 9940186_n.jpg
END:VEVENT
END:VCALENDAR
