BEGIN:VCALENDAR
VERSION:2.0
PRODID:icalendar-ruby
CALSCALE:GREGORIAN
METHOD:PUBLISH
BEGIN:VEVENT
DTSTAMP:20260421T164235Z
UID:14-1413121@yokosukacatholic.org
DTSTART:20260519T030000Z
DTEND:20260519T033000Z
CLASS:PUBLIC
CREATED:20260421T235921
DESCRIPTION:
LAST-MODIFIED:20260421T235921
LOCATION:Main Chapel
SUMMARY:Daily Mass
URL;VALUE=URI:https://www.yokosukacatholic.org/events/daily-mass/2026-05-19
ATTACH;FILENAME=493455241_10227908078547920_8015576473389940186_n.jpg;FMTTY
 PE=image/jpeg:https://dq5pwpg1q8ru0.cloudfront.net/2025/09/09/12/23/15/1c8
 bb229-280e-4efb-93a3-c2cd7f6c6356/493455241_10227908078547920_801557647338
 9940186_n.jpg
END:VEVENT
END:VCALENDAR
