BEGIN:VCALENDAR
VERSION:2.0
PRODID:icalendar-ruby
CALSCALE:GREGORIAN
METHOD:PUBLISH
BEGIN:VEVENT
DTSTAMP:20260422T004727Z
UID:13-1414217@yokosukacatholic.org
DTSTART:20260706T080000Z
DTEND:20260706T083000Z
CLASS:PUBLIC
CREATED:20260422T075358
DESCRIPTION:
LAST-MODIFIED:20260422T075358
LOCATION:Main Chapel
SUMMARY:La Misa en español
URL;VALUE=URI:https://www.yokosukacatholic.org/events/la-misa-en-espanol--1
 3/2026-07-06
ATTACH;FILENAME=20221210_163502.jpg;FMTTYPE=image/jpeg:https://dq5pwpg1q8ru
 0.cloudfront.net/2025/09/09/12/10/21/e54ea047-3b36-43c4-80c2-a6fd6c10011a/
 20221210_163502.jpg
END:VEVENT
END:VCALENDAR
