BEGIN:VCALENDAR
VERSION:2.0
PRODID:icalendar-ruby
CALSCALE:GREGORIAN
METHOD:PUBLISH
BEGIN:VEVENT
DTSTAMP:20260421T110929Z
UID:7-1412171@yokosukacatholic.org
DTSTART:20260426T021000Z
DTEND:20260426T031000Z
CLASS:PUBLIC
CREATED:20260421T101630
DESCRIPTION:
LAST-MODIFIED:20260421T101630
LOCATION:
SUMMARY:Sunday Mass
URL;VALUE=URI:https://www.yokosukacatholic.org/events/sunday-mass--7/2026-0
 4-26
END:VEVENT
END:VCALENDAR
