BEGIN:VCALENDAR
VERSION:2.0
PRODID:icalendar-ruby
CALSCALE:GREGORIAN
METHOD:PUBLISH
BEGIN:VEVENT
DTSTAMP:20260421T121914Z
UID:7-1412172@yokosukacatholic.org
DTSTART:20260503T021000Z
DTEND:20260503T031000Z
CLASS:PUBLIC
CREATED:20260421T101630
DESCRIPTION:
LAST-MODIFIED:20260421T101630
LOCATION:
SUMMARY:Sunday Mass
URL;VALUE=URI:https://www.yokosukacatholic.org/events/sunday-mass--7/2026-0
 5-03
END:VEVENT
END:VCALENDAR
