BEGIN:VCALENDAR
VERSION:2.0
PRODID:icalendar-ruby
CALSCALE:GREGORIAN
METHOD:PUBLISH
BEGIN:VEVENT
DTSTAMP:20260421T174904Z
UID:7-1413321@yokosukacatholic.org
DTSTART:20260531T021000Z
DTEND:20260531T031000Z
CLASS:PUBLIC
CREATED:20260422T023939
DESCRIPTION:
LAST-MODIFIED:20260422T023939
LOCATION:
SUMMARY:Sunday Mass
URL;VALUE=URI:https://www.yokosukacatholic.org/events/sunday-mass--7/2026-0
 5-31
END:VEVENT
END:VCALENDAR
