BEGIN:VCALENDAR
VERSION:2.0
PRODID:icalendar-ruby
CALSCALE:GREGORIAN
METHOD:PUBLISH
BEGIN:VEVENT
DTSTAMP:20260421T215630Z
UID:7-1413706@yokosukacatholic.org
DTSTART:20260621T021000Z
DTEND:20260621T031000Z
CLASS:PUBLIC
CREATED:20260422T051524
DESCRIPTION:
LAST-MODIFIED:20260422T051524
LOCATION:
SUMMARY:Sunday Mass
URL;VALUE=URI:https://www.yokosukacatholic.org/events/sunday-mass--7/2026-0
 6-21
END:VEVENT
END:VCALENDAR
