BEGIN:VCALENDAR
VERSION:2.0
PRODID:icalendar-ruby
CALSCALE:GREGORIAN
METHOD:PUBLISH
BEGIN:VEVENT
DTSTAMP:20260422T022705Z
UID:7-1414473@yokosukacatholic.org
DTSTART:20260712T021000Z
DTEND:20260712T031000Z
CLASS:PUBLIC
CREATED:20260422T103223
DESCRIPTION:
LAST-MODIFIED:20260422T103223
LOCATION:
SUMMARY:Sunday Mass
URL;VALUE=URI:https://www.yokosukacatholic.org/events/sunday-mass--7/2026-0
 7-12
END:VEVENT
END:VCALENDAR
