BEGIN:VCALENDAR
VERSION:2.0
PRODID:icalendar-ruby
CALSCALE:GREGORIAN
METHOD:PUBLISH
BEGIN:VEVENT
DTSTAMP:20260422T053046Z
UID:7-1414475@yokosukacatholic.org
DTSTART:20260726T021000Z
DTEND:20260726T031000Z
CLASS:PUBLIC
CREATED:20260422T103223
DESCRIPTION:
LAST-MODIFIED:20260422T103223
LOCATION:
SUMMARY:Sunday Mass
URL;VALUE=URI:https://www.yokosukacatholic.org/events/sunday-mass--7/2026-0
 7-26
END:VEVENT
END:VCALENDAR
