BEGIN:VCALENDAR
VERSION:2.0
PRODID:icalendar-ruby
CALSCALE:GREGORIAN
METHOD:PUBLISH
BEGIN:VEVENT
DTSTAMP:20260422T142906Z
UID:7-1414863@yokosukacatholic.org
DTSTART:20260906T021000Z
DTEND:20260906T031000Z
CLASS:PUBLIC
CREATED:20260422T214026
DESCRIPTION:
LAST-MODIFIED:20260422T214026
LOCATION:
SUMMARY:Sunday Mass
URL;VALUE=URI:https://www.yokosukacatholic.org/events/sunday-mass--7/2026-0
 9-06
END:VEVENT
END:VCALENDAR
