BEGIN:VCALENDAR
VERSION:2.0
PRODID:icalendar-ruby
CALSCALE:GREGORIAN
METHOD:PUBLISH
BEGIN:VEVENT
DTSTAMP:20260422T173726Z
UID:7-1415247@yokosukacatholic.org
DTSTART:20260920T021000Z
DTEND:20260920T031000Z
CLASS:PUBLIC
CREATED:20260423T003543
DESCRIPTION:
LAST-MODIFIED:20260423T003543
LOCATION:
SUMMARY:Sunday Mass
URL;VALUE=URI:https://www.yokosukacatholic.org/events/sunday-mass--7/2026-0
 9-20
END:VEVENT
END:VCALENDAR
