BEGIN:VCALENDAR
VERSION:2.0
PRODID:icalendar-ruby
CALSCALE:GREGORIAN
METHOD:PUBLISH
BEGIN:VEVENT
DTSTAMP:20260422T203920Z
UID:7-1415631@yokosukacatholic.org
DTSTART:20261004T021000Z
DTEND:20261004T031000Z
CLASS:PUBLIC
CREATED:20260423T033017
DESCRIPTION:
LAST-MODIFIED:20260423T033017
LOCATION:
SUMMARY:Sunday Mass
URL;VALUE=URI:https://www.yokosukacatholic.org/events/sunday-mass--7/2026-1
 0-04
END:VEVENT
END:VCALENDAR
