BEGIN:VCALENDAR
VERSION:2.0
PRODID:icalendar-ruby
CALSCALE:GREGORIAN
METHOD:PUBLISH
BEGIN:VEVENT
DTSTAMP:20260422T221016Z
UID:7-1416014@yokosukacatholic.org
DTSTART:20261011T021000Z
DTEND:20261011T031000Z
CLASS:PUBLIC
CREATED:20260423T062539
DESCRIPTION:
LAST-MODIFIED:20260423T062539
LOCATION:
SUMMARY:Sunday Mass
URL;VALUE=URI:https://www.yokosukacatholic.org/events/sunday-mass--7/2026-1
 0-11
END:VEVENT
END:VCALENDAR
