BEGIN:VCALENDAR
VERSION:2.0
PRODID:icalendar-ruby
CALSCALE:GREGORIAN
METHOD:PUBLISH
BEGIN:VEVENT
DTSTAMP:20260423T022248Z
UID:7-1416399@yokosukacatholic.org
DTSTART:20261101T021000Z
DTEND:20261101T031000Z
CLASS:PUBLIC
CREATED:20260423T091709
DESCRIPTION:
LAST-MODIFIED:20260423T091709
LOCATION:
SUMMARY:Sunday Mass
URL;VALUE=URI:https://www.yokosukacatholic.org/events/sunday-mass--7/2026-1
 1-01
END:VEVENT
END:VCALENDAR
