BEGIN:VCALENDAR
VERSION:2.0
PRODID:icalendar-ruby
CALSCALE:GREGORIAN
METHOD:PUBLISH
BEGIN:VEVENT
DTSTAMP:20260421T105341Z
UID:6-1412101@yokosukacatholic.org
DTSTART:20260425T230000Z
DTEND:20260426T000000Z
CLASS:PUBLIC
CREATED:20260421T101630
DESCRIPTION:
LAST-MODIFIED:20260421T101630
LOCATION:Chapel
SUMMARY:Sunday Mass
URL;VALUE=URI:https://www.yokosukacatholic.org/events/sunday-mass/2026-04-2
 6
END:VEVENT
END:VCALENDAR
