BEGIN:VCALENDAR
VERSION:2.0
PRODID:icalendar-ruby
CALSCALE:GREGORIAN
METHOD:PUBLISH
BEGIN:VEVENT
DTSTAMP:20260421T161633Z
UID:6-1412868@yokosukacatholic.org
DTSTART:20260523T230000Z
DTEND:20260524T000000Z
CLASS:PUBLIC
CREATED:20260421T235920
DESCRIPTION:
LAST-MODIFIED:20260421T235920
LOCATION:Chapel
SUMMARY:Sunday Mass
URL;VALUE=URI:https://www.yokosukacatholic.org/events/sunday-mass/2026-05-2
 4
END:VEVENT
END:VCALENDAR
