BEGIN:VCALENDAR
VERSION:2.0
PRODID:icalendar-ruby
CALSCALE:GREGORIAN
METHOD:PUBLISH
BEGIN:VEVENT
DTSTAMP:20260421T175048Z
UID:6-1413251@yokosukacatholic.org
DTSTART:20260530T230000Z
DTEND:20260531T000000Z
CLASS:PUBLIC
CREATED:20260422T023939
DESCRIPTION:
LAST-MODIFIED:20260422T023939
LOCATION:Chapel
SUMMARY:Sunday Mass
URL;VALUE=URI:https://www.yokosukacatholic.org/events/sunday-mass/2026-05-3
 1
END:VEVENT
END:VCALENDAR
