BEGIN:VCALENDAR
VERSION:2.0
PRODID:icalendar-ruby
CALSCALE:GREGORIAN
METHOD:PUBLISH
BEGIN:VEVENT
DTSTAMP:20260421T191016Z
UID:6-1413252@yokosukacatholic.org
DTSTART:20260606T230000Z
DTEND:20260607T000000Z
CLASS:PUBLIC
CREATED:20260422T023939
DESCRIPTION:
LAST-MODIFIED:20260422T023939
LOCATION:Chapel
SUMMARY:Sunday Mass
URL;VALUE=URI:https://www.yokosukacatholic.org/events/sunday-mass/2026-06-0
 7
END:VEVENT
END:VCALENDAR
