BEGIN:VCALENDAR
VERSION:2.0
PRODID:icalendar-ruby
CALSCALE:GREGORIAN
METHOD:PUBLISH
BEGIN:VEVENT
DTSTAMP:20260421T202907Z
UID:6-1413635@yokosukacatholic.org
DTSTART:20260613T230000Z
DTEND:20260614T000000Z
CLASS:PUBLIC
CREATED:20260422T051524
DESCRIPTION:
LAST-MODIFIED:20260422T051524
LOCATION:Chapel
SUMMARY:Sunday Mass
URL;VALUE=URI:https://www.yokosukacatholic.org/events/sunday-mass/2026-06-1
 4
END:VEVENT
END:VCALENDAR
