BEGIN:VCALENDAR
VERSION:2.0
PRODID:icalendar-ruby
CALSCALE:GREGORIAN
METHOD:PUBLISH
BEGIN:VEVENT
DTSTAMP:20260421T215537Z
UID:6-1413636@yokosukacatholic.org
DTSTART:20260620T230000Z
DTEND:20260621T000000Z
CLASS:PUBLIC
CREATED:20260422T051524
DESCRIPTION:
LAST-MODIFIED:20260422T051524
LOCATION:Chapel
SUMMARY:Sunday Mass
URL;VALUE=URI:https://www.yokosukacatholic.org/events/sunday-mass/2026-06-2
 1
END:VEVENT
END:VCALENDAR
