BEGIN:VCALENDAR
VERSION:2.0
PRODID:icalendar-ruby
CALSCALE:GREGORIAN
METHOD:PUBLISH
BEGIN:VEVENT
DTSTAMP:20260421T231346Z
UID:6-1414019@yokosukacatholic.org
DTSTART:20260627T230000Z
DTEND:20260628T000000Z
CLASS:PUBLIC
CREATED:20260422T075357
DESCRIPTION:
LAST-MODIFIED:20260422T075357
LOCATION:Chapel
SUMMARY:Sunday Mass
URL;VALUE=URI:https://www.yokosukacatholic.org/events/sunday-mass/2026-06-2
 8
END:VEVENT
END:VCALENDAR
