BEGIN:VCALENDAR
VERSION:2.0
PRODID:icalendar-ruby
CALSCALE:GREGORIAN
METHOD:PUBLISH
BEGIN:VEVENT
DTSTAMP:20260422T004358Z
UID:6-1414020@yokosukacatholic.org
DTSTART:20260704T230000Z
DTEND:20260705T000000Z
CLASS:PUBLIC
CREATED:20260422T075357
DESCRIPTION:
LAST-MODIFIED:20260422T075357
LOCATION:Chapel
SUMMARY:Sunday Mass
URL;VALUE=URI:https://www.yokosukacatholic.org/events/sunday-mass/2026-07-0
 5
END:VEVENT
END:VCALENDAR
