BEGIN:VCALENDAR
VERSION:2.0
PRODID:icalendar-ruby
CALSCALE:GREGORIAN
METHOD:PUBLISH
BEGIN:VEVENT
DTSTAMP:20260422T020400Z
UID:6-1414403@yokosukacatholic.org
DTSTART:20260711T230000Z
DTEND:20260712T000000Z
CLASS:PUBLIC
CREATED:20260422T103223
DESCRIPTION:
LAST-MODIFIED:20260422T103223
LOCATION:Chapel
SUMMARY:Sunday Mass
URL;VALUE=URI:https://www.yokosukacatholic.org/events/sunday-mass/2026-07-1
 2
END:VEVENT
END:VCALENDAR
