BEGIN:VCALENDAR
VERSION:2.0
PRODID:icalendar-ruby
CALSCALE:GREGORIAN
METHOD:PUBLISH
BEGIN:VEVENT
DTSTAMP:20260422T033715Z
UID:6-1414404@yokosukacatholic.org
DTSTART:20260718T230000Z
DTEND:20260719T000000Z
CLASS:PUBLIC
CREATED:20260422T103223
DESCRIPTION:
LAST-MODIFIED:20260422T103223
LOCATION:Chapel
SUMMARY:Sunday Mass
URL;VALUE=URI:https://www.yokosukacatholic.org/events/sunday-mass/2026-07-1
 9
END:VEVENT
END:VCALENDAR
