BEGIN:VCALENDAR
VERSION:2.0
PRODID:icalendar-ruby
CALSCALE:GREGORIAN
METHOD:PUBLISH
BEGIN:VEVENT
DTSTAMP:20260422T080330Z
UID:6-1414407@yokosukacatholic.org
DTSTART:20260808T230000Z
DTEND:20260809T000000Z
CLASS:PUBLIC
CREATED:20260422T103223
DESCRIPTION:
LAST-MODIFIED:20260422T103223
LOCATION:Chapel
SUMMARY:Sunday Mass
URL;VALUE=URI:https://www.yokosukacatholic.org/events/sunday-mass/2026-08-0
 9
END:VEVENT
END:VCALENDAR
