BEGIN:VCALENDAR
VERSION:2.0
PRODID:icalendar-ruby
CALSCALE:GREGORIAN
METHOD:PUBLISH
BEGIN:VEVENT
DTSTAMP:20260422T131731Z
UID:6-1414792@yokosukacatholic.org
DTSTART:20260829T230000Z
DTEND:20260830T000000Z
CLASS:PUBLIC
CREATED:20260422T214025
DESCRIPTION:
LAST-MODIFIED:20260422T214025
LOCATION:Chapel
SUMMARY:Sunday Mass
URL;VALUE=URI:https://www.yokosukacatholic.org/events/sunday-mass/2026-08-3
 0
END:VEVENT
END:VCALENDAR
