BEGIN:VCALENDAR
VERSION:2.0
PRODID:icalendar-ruby
CALSCALE:GREGORIAN
METHOD:PUBLISH
BEGIN:VEVENT
DTSTAMP:20260422T144928Z
UID:6-1414793@yokosukacatholic.org
DTSTART:20260905T230000Z
DTEND:20260906T000000Z
CLASS:PUBLIC
CREATED:20260422T214025
DESCRIPTION:
LAST-MODIFIED:20260422T214025
LOCATION:Chapel
SUMMARY:Sunday Mass
URL;VALUE=URI:https://www.yokosukacatholic.org/events/sunday-mass/2026-09-0
 6
END:VEVENT
END:VCALENDAR
