BEGIN:VCALENDAR
VERSION:2.0
PRODID:icalendar-ruby
CALSCALE:GREGORIAN
METHOD:PUBLISH
BEGIN:VEVENT
DTSTAMP:20260422T175519Z
UID:6-1415177@yokosukacatholic.org
DTSTART:20260919T230000Z
DTEND:20260920T000000Z
CLASS:PUBLIC
CREATED:20260423T003543
DESCRIPTION:
LAST-MODIFIED:20260423T003543
LOCATION:Chapel
SUMMARY:Sunday Mass
URL;VALUE=URI:https://www.yokosukacatholic.org/events/sunday-mass/2026-09-2
 0
END:VEVENT
END:VCALENDAR
