BEGIN:VCALENDAR
VERSION:2.0
PRODID:icalendar-ruby
CALSCALE:GREGORIAN
METHOD:PUBLISH
BEGIN:VEVENT
DTSTAMP:20260422T192019Z
UID:6-1415560@yokosukacatholic.org
DTSTART:20260926T230000Z
DTEND:20260927T000000Z
CLASS:PUBLIC
CREATED:20260423T033017
DESCRIPTION:
LAST-MODIFIED:20260423T033017
LOCATION:Chapel
SUMMARY:Sunday Mass
URL;VALUE=URI:https://www.yokosukacatholic.org/events/sunday-mass/2026-09-2
 7
END:VEVENT
END:VCALENDAR
