BEGIN:VCALENDAR
VERSION:2.0
PRODID:icalendar-ruby
CALSCALE:GREGORIAN
METHOD:PUBLISH
BEGIN:VEVENT
DTSTAMP:20260422T210327Z
UID:6-1415561@yokosukacatholic.org
DTSTART:20261003T230000Z
DTEND:20261004T000000Z
CLASS:PUBLIC
CREATED:20260423T033017
DESCRIPTION:
LAST-MODIFIED:20260423T033017
LOCATION:Chapel
SUMMARY:Sunday Mass
URL;VALUE=URI:https://www.yokosukacatholic.org/events/sunday-mass/2026-10-0
 4
END:VEVENT
END:VCALENDAR
