BEGIN:VCALENDAR
VERSION:2.0
PRODID:icalendar-ruby
CALSCALE:GREGORIAN
METHOD:PUBLISH
BEGIN:VEVENT
DTSTAMP:20260422T222600Z
UID:6-1415944@yokosukacatholic.org
DTSTART:20261010T230000Z
DTEND:20261011T000000Z
CLASS:PUBLIC
CREATED:20260423T062539
DESCRIPTION:
LAST-MODIFIED:20260423T062539
LOCATION:Chapel
SUMMARY:Sunday Mass
URL;VALUE=URI:https://www.yokosukacatholic.org/events/sunday-mass/2026-10-1
 1
END:VEVENT
END:VCALENDAR
