BEGIN:VCALENDAR
VERSION:2.0
PRODID:icalendar-ruby
CALSCALE:GREGORIAN
METHOD:PUBLISH
BEGIN:VEVENT
DTSTAMP:20260423T010333Z
UID:6-1416328@yokosukacatholic.org
DTSTART:20261024T230000Z
DTEND:20261025T000000Z
CLASS:PUBLIC
CREATED:20260423T091709
DESCRIPTION:
LAST-MODIFIED:20260423T091709
LOCATION:Chapel
SUMMARY:Sunday Mass
URL;VALUE=URI:https://www.yokosukacatholic.org/events/sunday-mass/2026-10-2
 5
END:VEVENT
END:VCALENDAR
