BEGIN:VCALENDAR
VERSION:2.0
PRODID:icalendar-ruby
CALSCALE:GREGORIAN
METHOD:PUBLISH
BEGIN:VEVENT
DTSTAMP:20260423T023845Z
UID:6-1416329@yokosukacatholic.org
DTSTART:20261031T230000Z
DTEND:20261101T000000Z
CLASS:PUBLIC
CREATED:20260423T091709
DESCRIPTION:
LAST-MODIFIED:20260423T091709
LOCATION:Chapel
SUMMARY:Sunday Mass
URL;VALUE=URI:https://www.yokosukacatholic.org/events/sunday-mass/2026-11-0
 1
END:VEVENT
END:VCALENDAR
