BEGIN:VCALENDAR
VERSION:2.0
PRODID:icalendar-ruby
CALSCALE:GREGORIAN
METHOD:PUBLISH
BEGIN:VEVENT
DTSTAMP:20260421T110510Z
UID:8-1412241@yokosukacatholic.org
DTSTART:20260425T080000Z
DTEND:20260425T090000Z
CLASS:PUBLIC
CREATED:20260421T101630
DESCRIPTION:
LAST-MODIFIED:20260421T101630
LOCATION:
SUMMARY:Sunday Vigil Mass
URL;VALUE=URI:https://www.yokosukacatholic.org/events/sunday-vigil-mass/202
 6-04-25
END:VEVENT
END:VCALENDAR
