BEGIN:VCALENDAR
VERSION:2.0
PRODID:icalendar-ruby
CALSCALE:GREGORIAN
METHOD:PUBLISH
BEGIN:VEVENT
DTSTAMP:20260421T135840Z
UID:8-1412624@yokosukacatholic.org
DTSTART:20260509T080000Z
DTEND:20260509T090000Z
CLASS:PUBLIC
CREATED:20260421T212357
DESCRIPTION:
LAST-MODIFIED:20260421T212357
LOCATION:
SUMMARY:Sunday Vigil Mass
URL;VALUE=URI:https://www.yokosukacatholic.org/events/sunday-vigil-mass/202
 6-05-09
END:VEVENT
END:VCALENDAR
