BEGIN:VCALENDAR
VERSION:2.0
PRODID:icalendar-ruby
CALSCALE:GREGORIAN
METHOD:PUBLISH
BEGIN:VEVENT
DTSTAMP:20260421T163410Z
UID:8-1413008@yokosukacatholic.org
DTSTART:20260523T080000Z
DTEND:20260523T090000Z
CLASS:PUBLIC
CREATED:20260421T235920
DESCRIPTION:
LAST-MODIFIED:20260421T235920
LOCATION:
SUMMARY:Sunday Vigil Mass
URL;VALUE=URI:https://www.yokosukacatholic.org/events/sunday-vigil-mass/202
 6-05-23
END:VEVENT
END:VCALENDAR
