BEGIN:VCALENDAR
VERSION:2.0
PRODID:icalendar-ruby
CALSCALE:GREGORIAN
METHOD:PUBLISH
BEGIN:VEVENT
DTSTAMP:20260421T174743Z
UID:8-1413391@yokosukacatholic.org
DTSTART:20260530T080000Z
DTEND:20260530T090000Z
CLASS:PUBLIC
CREATED:20260422T023940
DESCRIPTION:
LAST-MODIFIED:20260422T023940
LOCATION:
SUMMARY:Sunday Vigil Mass
URL;VALUE=URI:https://www.yokosukacatholic.org/events/sunday-vigil-mass/202
 6-05-30
END:VEVENT
END:VCALENDAR
