BEGIN:VCALENDAR
VERSION:2.0
PRODID:icalendar-ruby
CALSCALE:GREGORIAN
METHOD:PUBLISH
BEGIN:VEVENT
DTSTAMP:20260421T215614Z
UID:8-1413776@yokosukacatholic.org
DTSTART:20260620T080000Z
DTEND:20260620T090000Z
CLASS:PUBLIC
CREATED:20260422T051524
DESCRIPTION:
LAST-MODIFIED:20260422T051524
LOCATION:
SUMMARY:Sunday Vigil Mass
URL;VALUE=URI:https://www.yokosukacatholic.org/events/sunday-vigil-mass/202
 6-06-20
END:VEVENT
END:VCALENDAR
