BEGIN:VCALENDAR
VERSION:2.0
PRODID:icalendar-ruby
CALSCALE:GREGORIAN
METHOD:PUBLISH
BEGIN:VEVENT
DTSTAMP:20260421T231811Z
UID:8-1414159@yokosukacatholic.org
DTSTART:20260627T080000Z
DTEND:20260627T090000Z
CLASS:PUBLIC
CREATED:20260422T075358
DESCRIPTION:
LAST-MODIFIED:20260422T075358
LOCATION:
SUMMARY:Sunday Vigil Mass
URL;VALUE=URI:https://www.yokosukacatholic.org/events/sunday-vigil-mass/202
 6-06-27
END:VEVENT
END:VCALENDAR
