BEGIN:VCALENDAR
VERSION:2.0
PRODID:icalendar-ruby
CALSCALE:GREGORIAN
METHOD:PUBLISH
BEGIN:VEVENT
DTSTAMP:20260422T004353Z
UID:8-1414160@yokosukacatholic.org
DTSTART:20260704T080000Z
DTEND:20260704T090000Z
CLASS:PUBLIC
CREATED:20260422T075358
DESCRIPTION:
LAST-MODIFIED:20260422T075358
LOCATION:
SUMMARY:Sunday Vigil Mass
URL;VALUE=URI:https://www.yokosukacatholic.org/events/sunday-vigil-mass/202
 6-07-04
END:VEVENT
END:VCALENDAR
