BEGIN:VCALENDAR
VERSION:2.0
PRODID:icalendar-ruby
CALSCALE:GREGORIAN
METHOD:PUBLISH
BEGIN:VEVENT
DTSTAMP:20260422T075059Z
UID:8-1414547@yokosukacatholic.org
DTSTART:20260808T080000Z
DTEND:20260808T090000Z
CLASS:PUBLIC
CREATED:20260422T103224
DESCRIPTION:
LAST-MODIFIED:20260422T103224
LOCATION:
SUMMARY:Sunday Vigil Mass
URL;VALUE=URI:https://www.yokosukacatholic.org/events/sunday-vigil-mass/202
 6-08-08
END:VEVENT
END:VCALENDAR
