BEGIN:VCALENDAR
VERSION:2.0
PRODID:icalendar-ruby
CALSCALE:GREGORIAN
METHOD:PUBLISH
BEGIN:VEVENT
DTSTAMP:20260422T105351Z
UID:8-1414549@yokosukacatholic.org
DTSTART:20260822T080000Z
DTEND:20260822T090000Z
CLASS:PUBLIC
CREATED:20260422T103224
DESCRIPTION:
LAST-MODIFIED:20260422T103224
LOCATION:
SUMMARY:Sunday Vigil Mass
URL;VALUE=URI:https://www.yokosukacatholic.org/events/sunday-vigil-mass/202
 6-08-22
END:VEVENT
END:VCALENDAR
