BEGIN:VCALENDAR
VERSION:2.0
PRODID:icalendar-ruby
CALSCALE:GREGORIAN
METHOD:PUBLISH
BEGIN:VEVENT
DTSTAMP:20260422T155650Z
UID:8-1415316@yokosukacatholic.org
DTSTART:20260912T080000Z
DTEND:20260912T090000Z
CLASS:PUBLIC
CREATED:20260423T003543
DESCRIPTION:
LAST-MODIFIED:20260423T003543
LOCATION:
SUMMARY:Sunday Vigil Mass
URL;VALUE=URI:https://www.yokosukacatholic.org/events/sunday-vigil-mass/202
 6-09-12
END:VEVENT
END:VCALENDAR
