BEGIN:VCALENDAR
VERSION:2.0
PRODID:icalendar-ruby
CALSCALE:GREGORIAN
METHOD:PUBLISH
BEGIN:VEVENT
DTSTAMP:20260422T190524Z
UID:8-1415700@yokosukacatholic.org
DTSTART:20260926T080000Z
DTEND:20260926T090000Z
CLASS:PUBLIC
CREATED:20260423T033017
DESCRIPTION:
LAST-MODIFIED:20260423T033017
LOCATION:
SUMMARY:Sunday Vigil Mass
URL;VALUE=URI:https://www.yokosukacatholic.org/events/sunday-vigil-mass/202
 6-09-26
END:VEVENT
END:VCALENDAR
