BEGIN:VCALENDAR
VERSION:2.0
PRODID:icalendar-ruby
CALSCALE:GREGORIAN
METHOD:PUBLISH
BEGIN:VEVENT
DTSTAMP:20260422T203004Z
UID:8-1415701@yokosukacatholic.org
DTSTART:20261003T080000Z
DTEND:20261003T090000Z
CLASS:PUBLIC
CREATED:20260423T033017
DESCRIPTION:
LAST-MODIFIED:20260423T033017
LOCATION:
SUMMARY:Sunday Vigil Mass
URL;VALUE=URI:https://www.yokosukacatholic.org/events/sunday-vigil-mass/202
 6-10-03
END:VEVENT
END:VCALENDAR
