BEGIN:VCALENDAR
VERSION:2.0
PRODID:icalendar-ruby
CALSCALE:GREGORIAN
METHOD:PUBLISH
BEGIN:VEVENT
DTSTAMP:20260422T215234Z
UID:8-1416084@yokosukacatholic.org
DTSTART:20261010T080000Z
DTEND:20261010T090000Z
CLASS:PUBLIC
CREATED:20260423T062539
DESCRIPTION:
LAST-MODIFIED:20260423T062539
LOCATION:
SUMMARY:Sunday Vigil Mass
URL;VALUE=URI:https://www.yokosukacatholic.org/events/sunday-vigil-mass/202
 6-10-10
END:VEVENT
END:VCALENDAR
