BEGIN:VCALENDAR
VERSION:2.0
PRODID:icalendar-ruby
CALSCALE:GREGORIAN
METHOD:PUBLISH
BEGIN:VEVENT
DTSTAMP:20260423T004223Z
UID:8-1416468@yokosukacatholic.org
DTSTART:20261024T080000Z
DTEND:20261024T090000Z
CLASS:PUBLIC
CREATED:20260423T091709
DESCRIPTION:
LAST-MODIFIED:20260423T091709
LOCATION:
SUMMARY:Sunday Vigil Mass
URL;VALUE=URI:https://www.yokosukacatholic.org/events/sunday-vigil-mass/202
 6-10-24
END:VEVENT
END:VCALENDAR
