BEGIN:VCALENDAR
VERSION:2.0
PRODID:icalendar-ruby
CALSCALE:GREGORIAN
METHOD:PUBLISH
BEGIN:VEVENT
DTSTAMP:20260423T021852Z
UID:8-1416469@yokosukacatholic.org
DTSTART:20261031T080000Z
DTEND:20261031T090000Z
CLASS:PUBLIC
CREATED:20260423T091709
DESCRIPTION:
LAST-MODIFIED:20260423T091709
LOCATION:
SUMMARY:Sunday Vigil Mass
URL;VALUE=URI:https://www.yokosukacatholic.org/events/sunday-vigil-mass/202
 6-10-31
END:VEVENT
END:VCALENDAR
